BEGIN:VCALENDAR
VERSION:2.0
PRODID:gruenemaxdorf.de
METHOD:PUBLISH
BEGIN:VTIMEZONE
TZID:Europe/Berlin
X-LIC-LOCATION:Europe/Berlin
BEGIN:DAYLIGHT
TZOFFSETFROM:+0100
TZOFFSETTO:+0200
TZNAME:CEST
DTSTART:19700329T020000
RRULE:FREQ=YEARLY;INTERVAL=1;BYDAY=-1SU;BYMONTH=3
END:DAYLIGHT
BEGIN:STANDARD
TZOFFSETFROM:+0200
TZOFFSETTO:+0100
TZNAME:CET
DTSTART:19701025T030000
RRULE:FREQ=YEARLY;INTERVAL=1;BYDAY=-1SU;BYMONTH=10
END:STANDARD
END:VTIMEZONE
BEGIN:VEVENT
UID:068f47ef1b23ab40a86865aa860a9d85@gruenemaxdorf.de
URL;VALUE=URI:https://gruenemaxdorf.de/termine/wahlkampfstand-0321/
LOCATION:
SUMMARY:Wahlkampfstand am 21. März
DESCRIPTION;ALTREP="data:text/html,%0A%3Cp%3EAm%2022.%20M%C3%A4rz%202026%
 20findet%20die%20Landtagswahl%202026%20in%20Rheinland-Pfalz%20statt.%20Di
 e%20Gr%C3%BCnen%20schicken%20f%C3%BCr%20den%20Rhein-Pfalz-Kreis%20Grundsc
 huldirektorin%26nbsp%3B%3Ca%20href%3D%22https%3A%2F%2Fandrea-e-franz.de%2
 F%22%3EAndrea%20Franz%3C%2Fa%3E%26nbsp%3Baus%20B%C3%B6hl-Iggelheim%20ins%
 20Rennen.%20Spitzenkandidatin%20ist%20unsere%20aktuelle%20rheinland-pf%C3
 %A4lzische%20Umweltministerin%26nbsp%3B%3Ca%20href%3D%22https%3A%2F%2Fkat
 rin-eder.de%2F%22%3EKatrin%20Eder%3C%2Fa%3E.%20Mehr%20zu%20diesen%20beide
 n%20beindruckenden%20Frauen%20finden%20Sie%26nbsp%3B%3Ca%20href%3D%22http
 s%3A%2F%2Fgruenemaxdorf.de%2F2026%2F02%2F22%2Fendspurt-landtagswahlkampf-
 2026%2F%22%3Ehier%3C%2Fa%3E.%3C%2Fp%3E%0A%0A%0A%0A%3Cp%3EWir%20sind%20mit
 %20unserem%20Infostand%20in%20Maxdorf%20am%20Samstag%2C%2021.%20M%C3%A4rz
 %202026%2C%20von%209%20bis%2012%20Uhr%20neben%20der%20B%C3%A4ckerei%20G%C
 3%B6rtz%20und%20freuen%20uns%20auf%20Gespr%C3%A4che.%3C%2Fp%3E%0A%0A%0A%0
 A%3Cp%3E%3C%2Fp%3E%0A":Am 22. März 2026 findet die Landtagswahl 2026 in 
 Rheinland-Pfalz statt. Die Grünen schicken für den Rhein-Pfalz-Kreis Gr
 undschuldirektorin Andrea Franz aus Böhl-Iggelheim ins Rennen. Spitzen
 kandidatin ist unsere aktuelle rheinland-pfälzische Umweltministerin Ka
 trin Eder. Mehr zu diesen beiden beindruckenden Frauen finden Sie hier.\
 n\nWir sind mit unserem Infostand in Maxdorf am Samstag\, 21. März 2026\
 , von 9 bis 12 Uhr neben der Bäckerei Görtz und freuen uns auf Gespräc
 he.
CLASS:PUBLIC
DTSTART;TZID=Europe/Berlin:20260321T090000
DTEND;TZID=Europe/Berlin:20260321T120000
DTSTAMP:20260421T104238
END:VEVENT
END:VCALENDAR